BEGIN:VCALENDAR
VERSION:2.0
PRODID:-//Kino Tuškanac//Filmski programi//HR
BEGIN:VEVENT
UID:eab446b42675903bf265ed90b26eae0a@kinotuskanac.hr
DTSTAMP:20260421T154136Z
DTSTART:20100608T190000
DTEND:20100608T210000
SUMMARY:Ljepota đavola
LOCATION:Kino Tuškanac
DESCRIPTION:La beauté du diable, 1950. R: René Clair
END:VEVENT
END:VCALENDAR