BEGIN:VCALENDAR
VERSION:2.0
PRODID:-//Kino Tuškanac//Filmski programi//HR
BEGIN:VEVENT
UID:80160db82e466fe0caec57be978795a4@kinotuskanac.hr
DTSTAMP:20260421T184111Z
DTSTART:20100611T190000
DTEND:20100611T210000
SUMMARY:Veliki manevri
LOCATION:Kino Tuškanac
DESCRIPTION:Les grandes manoeuvres, 1955 R: René Clair
END:VEVENT
END:VCALENDAR