BEGIN:VCALENDAR
VERSION:2.0
PRODID:-//Kino Tuškanac//Filmski programi//HR
BEGIN:VEVENT
UID:b6708af3663023fa8400e047c66cc492@kinotuskanac.hr
DTSTAMP:20260421T184257Z
DTSTART:20100612T210000
DTEND:20100612T230000
SUMMARY:Veliki manevri
LOCATION:Kino Tuškanac
DESCRIPTION:Les grandes manoeuvres, 1955 R: René Clair
END:VEVENT
END:VCALENDAR