BEGIN:VCALENDAR
VERSION:2.0
PRODID:-//Kino Tuškanac//Filmski programi//HR
BEGIN:VEVENT
UID:dacaf8fe5ae2fda989029b0e2104031d@kinotuskanac.hr
DTSTAMP:20260421T220823Z
DTSTART:20100615T210000
DTEND:20100615T230000
SUMMARY:Montparnasse 19
LOCATION:Kino Tuškanac
DESCRIPTION:Francuska, Italija, 1958 R: Jacques Becker
END:VEVENT
END:VCALENDAR