BEGIN:VCALENDAR
VERSION:2.0
PRODID:-//Kino Tuškanac//Filmski programi//HR
BEGIN:VEVENT
UID:a946bd1d3bac995222d57c052e62750a@kinotuskanac.hr
DTSTAMP:20260421T220606Z
DTSTART:20100616T190000
DTEND:20100616T210000
SUMMARY:Montparnasse 19
LOCATION:Kino Tuškanac
DESCRIPTION:Francuska, Italija, 1958 R: Jacques Becker
END:VEVENT
END:VCALENDAR