BEGIN:VCALENDAR
VERSION:2.0
PRODID:-//Kino Tuškanac//Filmski programi//HR
BEGIN:VEVENT
UID:778ece2f4a893c6bec0d64bd6933b641@kinotuskanac.hr
DTSTAMP:20260422T054703Z
DTSTART:20030426T170000
DTEND:20030426T190000
SUMMARY:Carlton-Browne of the F.O.
LOCATION:Kino Tuškanac
DESCRIPTION:1958 R: Roy Boulting
END:VEVENT
END:VCALENDAR