BEGIN:VCALENDAR
VERSION:2.0
PRODID:-//Kino Tuškanac//Filmski programi//HR
BEGIN:VEVENT
UID:770a1da77599070f37e266dec4d2f2ab@kinotuskanac.hr
DTSTAMP:20260420T165601Z
DTSTART:20100929T200000
DTEND:20100929T220000
SUMMARY:Učitelj glazbe
LOCATION:Kino Tuškanac
DESCRIPTION:Le maître de musique, 1989. R: Gérard Corbiau
END:VEVENT
END:VCALENDAR