BEGIN:VCALENDAR
VERSION:2.0
PRODID:-//Kino Tuškanac//Filmski programi//HR
BEGIN:VEVENT
UID:3b2f16382a1ac2015e0cdb57b6d99d3a@kinotuskanac.hr
DTSTAMP:20260420T165711Z
DTSTART:20100930T190000
DTEND:20100930T210000
SUMMARY:Učitelj glazbe
LOCATION:Kino Tuškanac
DESCRIPTION:Le maître de musique, 1989. R: Gérard Corbiau
END:VEVENT
END:VCALENDAR