BEGIN:VCALENDAR
VERSION:2.0
PRODID:-//Kino Tuškanac//Filmski programi//HR
BEGIN:VEVENT
UID:6f817b5c12982a06054846361eff43e3@kinotuskanac.hr
DTSTAMP:20260421T011822Z
DTSTART:20101001T210000
DTEND:20101001T230000
SUMMARY:Pauline i Paulette
LOCATION:Kino Tuškanac
DESCRIPTION:Pauline et Paulette, 2001 R: Lieven Debrauwer
END:VEVENT
END:VCALENDAR