BEGIN:VCALENDAR
VERSION:2.0
PRODID:-//Kino Tuškanac//Filmski programi//HR
BEGIN:VEVENT
UID:8625c34511cdf15c8855bd1eef72c2cf@kinotuskanac.hr
DTSTAMP:20260421T012150Z
DTSTART:20101002T190000
DTEND:20101002T210000
SUMMARY:Pauline i Paulette
LOCATION:Kino Tuškanac
DESCRIPTION:Pauline et Paulette, 2001 R: Lieven Debrauwer
END:VEVENT
END:VCALENDAR