BEGIN:VCALENDAR
VERSION:2.0
PRODID:-//Kino Tuškanac//Filmski programi//HR
BEGIN:VEVENT
UID:f138271adea6de30ab85380e221531da@kinotuskanac.hr
DTSTAMP:20260419T141446Z
DTSTART:20020420T150000
DTEND:20020420T170000
SUMMARY:Moral Ruth Halbfass
LOCATION:Kino Tuškanac
DESCRIPTION:Die Moral der Ruth Halbfass, 1972. R: Volker Schlöndorff
END:VEVENT
END:VCALENDAR