BEGIN:VCALENDAR
VERSION:2.0
PRODID:-//Kino Tuškanac//Filmski programi//HR
BEGIN:VEVENT
UID:bb3752c063678d41d0f53f434fd5664e@kinotuskanac.hr
DTSTAMP:20260423T161626Z
DTSTART:20101030T210000
DTEND:20101030T230000
SUMMARY:Pitanje mjere
LOCATION:Kino Tuškanac
DESCRIPTION:Matter of Size, 2009. R: Sharon Maymon, Erez Tadmor
END:VEVENT
END:VCALENDAR