BEGIN:VCALENDAR
VERSION:2.0
PRODID:-//Kino Tuškanac//Filmski programi//HR
BEGIN:VEVENT
UID:89902542069298ba6417eab7b6420f54@kinotuskanac.hr
DTSTAMP:20260420T200303Z
DTSTART:20101103T200000
DTEND:20101103T220000
SUMMARY:Noel, pjesnik sambe
LOCATION:Kino Tuškanac
DESCRIPTION:Noel, Poeta da Vila, 2006. R: Ricardo van Steen
END:VEVENT
END:VCALENDAR