BEGIN:VCALENDAR
VERSION:2.0
PRODID:-//Kino Tuškanac//Filmski programi//HR
BEGIN:VEVENT
UID:816536805c84af32416b1b69bce5573f@kinotuskanac.hr
DTSTAMP:20260420T200223Z
DTSTART:20101104T190000
DTEND:20101104T210000
SUMMARY:Noel, pjesnik sambe
LOCATION:Kino Tuškanac
DESCRIPTION:Noel, Poeta da Vila, 2006. R: Ricardo van Steen
END:VEVENT
END:VCALENDAR