BEGIN:VCALENDAR
VERSION:2.0
PRODID:-//Kino Tuškanac//Filmski programi//HR
BEGIN:VEVENT
UID:4234b1157e09f1cf7c4eeb5ebe47e7d7@kinotuskanac.hr
DTSTAMP:20260419T141943Z
DTSTART:20101106T190000
DTEND:20101106T210000
SUMMARY:Tamno plavo gotovo crno
LOCATION:Kino Tuškanac
DESCRIPTION:Azul oscuro casi negro, 2006 R: Arévalo, Sánchez
END:VEVENT
END:VCALENDAR