BEGIN:VCALENDAR
VERSION:2.0
PRODID:-//Kino Tuškanac//Filmski programi//HR
BEGIN:VEVENT
UID:18ad5b08cdc8f17496e7752216e6dfde@kinotuskanac.hr
DTSTAMP:20260419T225107Z
DTSTART:20101110T210000
DTEND:20101110T230000
SUMMARY:Havana Blues
LOCATION:Kino Tuškanac
DESCRIPTION:2005. R: Benito Zambrano
END:VEVENT
END:VCALENDAR