BEGIN:VCALENDAR
VERSION:2.0
PRODID:-//Kino Tuškanac//Filmski programi//HR
BEGIN:VEVENT
UID:b76b027ce11bd017bf854814c5f5bc0f@kinotuskanac.hr
DTSTAMP:20260419T225208Z
DTSTART:20101111T190000
DTEND:20101111T210000
SUMMARY:Havana Blues
LOCATION:Kino Tuškanac
DESCRIPTION:2005. R: Benito Zambrano
END:VEVENT
END:VCALENDAR