BEGIN:VCALENDAR
VERSION:2.0
PRODID:-//Kino Tuškanac//Filmski programi//HR
BEGIN:VEVENT
UID:3a5c25d2c1460ce647cd1e0f3abee263@kinotuskanac.hr
DTSTAMP:20260423T175601Z
DTSTART:20101111T210000
DTEND:20101111T230000
SUMMARY:Što turist mora vidjeti
LOCATION:Kino Tuškanac
DESCRIPTION:Os Mistérios de Lisboa, 2009. R: José Fonseca e Costa
END:VEVENT
END:VCALENDAR