BEGIN:VCALENDAR
VERSION:2.0
PRODID:-//Kino Tuškanac//Filmski programi//HR
BEGIN:VEVENT
UID:3d6998465becef788423bbc9f59695c7@kinotuskanac.hr
DTSTAMP:20260423T175601Z
DTSTART:20101112T180000
DTEND:20101112T200000
SUMMARY:Što turist mora vidjeti
LOCATION:Kino Tuškanac
DESCRIPTION:Os Mistérios de Lisboa, 2009. R: José Fonseca e Costa
END:VEVENT
END:VCALENDAR