BEGIN:VCALENDAR
VERSION:2.0
PRODID:-//Kino Tuškanac//Filmski programi//HR
BEGIN:VEVENT
UID:9113bba02a85191d16d6bb1575eac47d@kinotuskanac.hr
DTSTAMP:20260425T203253Z
DTSTART:20101217T210000
DTEND:20101217T230000
SUMMARY:Dogodilo se jedne noći
LOCATION:Kino Tuškanac
DESCRIPTION:It Happened One Night, SAD, 1934 R: Frank Capra
END:VEVENT
END:VCALENDAR