BEGIN:VCALENDAR
VERSION:2.0
PRODID:-//Kino Tuškanac//Filmski programi//HR
BEGIN:VEVENT
UID:060a9e879fbec2f8cc8f427ecb33aa3f@kinotuskanac.hr
DTSTAMP:20260421T133658Z
DTSTART:20100916T200000
DTEND:20100916T220000
SUMMARY:Turoban valcer
LOCATION:Kino Tuškanac
DESCRIPTION:Ryabinoviy Vals, 2009. R: Aljona Mihajlovna Semenova, Aleksandar Smirnov
END:VEVENT
END:VCALENDAR