BEGIN:VCALENDAR
VERSION:2.0
PRODID:-//Kino Tuškanac//Filmski programi//HR
BEGIN:VEVENT
UID:0e8ee6aa97df80428efa458cad2d07f2@kinotuskanac.hr
DTSTAMP:20260424T051819Z
DTSTART:20030513T210000
DTEND:20030513T230000
SUMMARY:Hobsonov izbor
LOCATION:Kino Tuškanac
DESCRIPTION:Hobson's Choice, UK, 1953 R: David Lean
END:VEVENT
END:VCALENDAR