BEGIN:VCALENDAR
VERSION:2.0
PRODID:-//Kino Tuškanac//Filmski programi//HR
BEGIN:VEVENT
UID:0af2b1f6fa26bfdce2cbac283701a5f5@kinotuskanac.hr
DTSTAMP:20260422T180224Z
DTSTART:20101114T200000
DTEND:20101114T220000
SUMMARY:Pasija
LOCATION:Kino Tuškanac
DESCRIPTION:La passione, 2010. R: Carlo Mazzacurati
END:VEVENT
END:VCALENDAR