BEGIN:VCALENDAR
VERSION:2.0
PRODID:-//Kino Tuškanac//Filmski programi//HR
BEGIN:VEVENT
UID:66409d9407e23aff98806de0023dabe2@kinotuskanac.hr
DTSTAMP:20260421T201124Z
DTSTART:20110208T190000
DTEND:20110208T210000
SUMMARY:Krug 2
LOCATION:Kino Tuškanac
DESCRIPTION:Ringu 2, 1999. R: Hideo Nakata
END:VEVENT
END:VCALENDAR