BEGIN:VCALENDAR
VERSION:2.0
PRODID:-//Kino Tuškanac//Filmski programi//HR
BEGIN:VEVENT
UID:c31fecb77b8d0162af7ea82348b678aa@kinotuskanac.hr
DTSTAMP:20260423T112403Z
DTSTART:20110224T190000
DTEND:20110224T210000
SUMMARY:Slobodna žena
LOCATION:Kino Tuškanac
DESCRIPTION:An Unmarried Woman, 1978. R: Paul Mazursky
END:VEVENT
END:VCALENDAR