BEGIN:VCALENDAR
VERSION:2.0
PRODID:-//Kino Tuškanac//Filmski programi//HR
BEGIN:VEVENT
UID:bf7f44057bd929ebe3f090ecbeee2a54@kinotuskanac.hr
DTSTAMP:20260422T140908Z
DTSTART:20110228T183000
DTEND:20110228T203000
SUMMARY:Mjesec
LOCATION:Kino Tuškanac
DESCRIPTION:La luna, Italija, 1979 R: Bernardo Bertolucci
END:VEVENT
END:VCALENDAR