BEGIN:VCALENDAR
VERSION:2.0
PRODID:-//Kino Tuškanac//Filmski programi//HR
BEGIN:VEVENT
UID:2d76c27ad8f676f7733cfd24eb49fa1d@kinotuskanac.hr
DTSTAMP:20260423T112404Z
DTSTART:20110228T210000
DTEND:20110228T230000
SUMMARY:Slobodna žena
LOCATION:Kino Tuškanac
DESCRIPTION:An Unmarried Woman, 1978. R: Paul Mazursky
END:VEVENT
END:VCALENDAR