BEGIN:VCALENDAR
VERSION:2.0
PRODID:-//Kino Tuškanac//Filmski programi//HR
BEGIN:VEVENT
UID:749f2b1bb9e7bc1e2e4a9121a58aa3fb@kinotuskanac.hr
DTSTAMP:20260422T141108Z
DTSTART:20110301T210000
DTEND:20110301T230000
SUMMARY:Mjesec
LOCATION:Kino Tuškanac
DESCRIPTION:La luna, Italija, 1979 R: Bernardo Bertolucci
END:VEVENT
END:VCALENDAR