BEGIN:VCALENDAR
VERSION:2.0
PRODID:-//Kino Tuškanac//Filmski programi//HR
BEGIN:VEVENT
UID:d7408c768f975d7fcd0512a3317d3a5d@kinotuskanac.hr
DTSTAMP:20260422T224111Z
DTSTART:20030527T190000
DTEND:20030527T210000
SUMMARY:Žena-fantom
LOCATION:Kino Tuškanac
DESCRIPTION:Phantom Lady, 1944 R: Robert Siodmak
END:VEVENT
END:VCALENDAR