BEGIN:VCALENDAR
VERSION:2.0
PRODID:-//Kino Tuškanac//Filmski programi//HR
BEGIN:VEVENT
UID:cf4e8244a8a698f2e1a9b9ec8926361b@kinotuskanac.hr
DTSTAMP:20260421T165325Z
DTSTART:20110301T190000
DTEND:20110301T210000
SUMMARY:Obično nepoznati lopovi
LOCATION:Kino Tuškanac
DESCRIPTION:I soliti ignoti, 1958 R: Mario Monicelli
END:VEVENT
END:VCALENDAR