BEGIN:VCALENDAR
VERSION:2.0
PRODID:-//Kino Tuškanac//Filmski programi//HR
BEGIN:VEVENT
UID:259d95990a957996d66add3a39ed1e41@kinotuskanac.hr
DTSTAMP:20260421T165257Z
DTSTART:20110302T210000
DTEND:20110302T230000
SUMMARY:Obično nepoznati lopovi
LOCATION:Kino Tuškanac
DESCRIPTION:I soliti ignoti, 1958 R: Mario Monicelli
END:VEVENT
END:VCALENDAR