BEGIN:VCALENDAR
VERSION:2.0
PRODID:-//Kino Tuškanac//Filmski programi//HR
BEGIN:VEVENT
UID:868ded45debbba084813ba912cb8760d@kinotuskanac.hr
DTSTAMP:20260421T120104Z
DTSTART:20110324T200000
DTEND:20110324T220000
SUMMARY:Hvala za čokoladu
LOCATION:Kino Tuškanac
DESCRIPTION:Merci pour le chocolat, 2000. R: Claude Chabrol
END:VEVENT
END:VCALENDAR