BEGIN:VCALENDAR
VERSION:2.0
PRODID:-//Kino Tuškanac//Filmski programi//HR
BEGIN:VEVENT
UID:c31709dee369f61db0085c0a94a86e52@kinotuskanac.hr
DTSTAMP:20260421T121232Z
DTSTART:20110325T190000
DTEND:20110325T210000
SUMMARY:Hvala za čokoladu
LOCATION:Kino Tuškanac
DESCRIPTION:Merci pour le chocolat, 2000. R: Claude Chabrol
END:VEVENT
END:VCALENDAR