BEGIN:VCALENDAR
VERSION:2.0
PRODID:-//Kino Tuškanac//Filmski programi//HR
BEGIN:VEVENT
UID:e728832a794104f7a8d04d3afa925481@kinotuskanac.hr
DTSTAMP:20260425T202742Z
DTSTART:20110325T210000
DTEND:20110325T230000
SUMMARY:Naivne djevojke
LOCATION:Kino Tuškanac
DESCRIPTION:Les bonnes femmes, 1960. R: Claude Chabrol
END:VEVENT
END:VCALENDAR