BEGIN:VCALENDAR
VERSION:2.0
PRODID:-//Kino Tuškanac//Filmski programi//HR
BEGIN:VEVENT
UID:f5273a3f8f2dacd6628fe8b50356e8c0@kinotuskanac.hr
DTSTAMP:20260425T202625Z
DTSTART:20110326T190000
DTEND:20110326T210000
SUMMARY:Naivne djevojke
LOCATION:Kino Tuškanac
DESCRIPTION:Les bonnes femmes, 1960. R: Claude Chabrol
END:VEVENT
END:VCALENDAR