BEGIN:VCALENDAR
VERSION:2.0
PRODID:-//Kino Tuškanac//Filmski programi//HR
BEGIN:VEVENT
UID:60bee587b9a5ca28aa71c3da918750a8@kinotuskanac.hr
DTSTAMP:20260423T042336Z
DTSTART:20030603T170000
DTEND:20030603T190000
SUMMARY:Ambasador
LOCATION:Kino Tuškanac
DESCRIPTION:Jugoslavija: Hrvatska, 1984 R: Fadil Hadžić
END:VEVENT
END:VCALENDAR