BEGIN:VCALENDAR
VERSION:2.0
PRODID:-//Kino Tuškanac//Filmski programi//HR
BEGIN:VEVENT
UID:2cb57eeae0c52aa8edd370ea61c291ae@kinotuskanac.hr
DTSTAMP:20260420T052655Z
DTSTART:20110401T210000
DTEND:20110401T230000
SUMMARY:Ženski posli
LOCATION:Kino Tuškanac
DESCRIPTION:Une affaire de femmes, 1988 R: Claude Chabrol
END:VEVENT
END:VCALENDAR