BEGIN:VCALENDAR
VERSION:2.0
PRODID:-//Kino Tuškanac//Filmski programi//HR
BEGIN:VEVENT
UID:3932e4885aa3831b9771a7a3a1a21d7b@kinotuskanac.hr
DTSTAMP:20260420T052538Z
DTSTART:20110402T190000
DTEND:20110402T210000
SUMMARY:Ženski posli
LOCATION:Kino Tuškanac
DESCRIPTION:Une affaire de femmes, 1988 R: Claude Chabrol
END:VEVENT
END:VCALENDAR