BEGIN:VCALENDAR
VERSION:2.0
PRODID:-//Kino Tuškanac//Filmski programi//HR
BEGIN:VEVENT
UID:25709d4660a0e8cb8273032e0dc73ec6@kinotuskanac.hr
DTSTAMP:20260422T083444Z
DTSTART:20110308T190000
DTEND:20110308T210000
SUMMARY:Nasmijana opatica
LOCATION:Kino Tuškanac
DESCRIPTION:Soeur sourire, Belgija, 2009 R: Stijn Coninx
END:VEVENT
END:VCALENDAR