BEGIN:VCALENDAR
VERSION:2.0
PRODID:-//Kino Tuškanac//Filmski programi//HR
BEGIN:VEVENT
UID:99a9bedf56635222a635012827a549cf@kinotuskanac.hr
DTSTAMP:20260421T182549Z
DTSTART:20110310T210000
DTEND:20110310T230000
SUMMARY:Isprepleteni susreti
LOCATION:Kino Tuškanac
DESCRIPTION:Les réunions croisées, Rumunjska, 2009 R: Anca Damian
END:VEVENT
END:VCALENDAR