BEGIN:VCALENDAR
VERSION:2.0
PRODID:-//Kino Tuškanac//Filmski programi//HR
BEGIN:VEVENT
UID:a32cd7acd15eaafac01d2509cdc3a3ae@kinotuskanac.hr
DTSTAMP:20260425T202417Z
DTSTART:20110312T190000
DTEND:20110312T210000
SUMMARY:Tri trenutka
LOCATION:Kino Tuškanac
DESCRIPTION:Trois moments, Grčka, 2008 R: Petros Sevastikoglou
END:VEVENT
END:VCALENDAR