BEGIN:VCALENDAR
VERSION:2.0
PRODID:-//Kino Tuškanac//Filmski programi//HR
BEGIN:VEVENT
UID:f1629767be86971cedb17e884aa59f1a@kinotuskanac.hr
DTSTAMP:20260423T043018Z
DTSTART:20110409T190000
DTEND:20110409T210000
SUMMARY:Abeceda straha
LOCATION:Kino Tuškanac
DESCRIPTION:Jugoslavija: Hrvatska, 1961 R: Fadil Hadžić
END:VEVENT
END:VCALENDAR