BEGIN:VCALENDAR
VERSION:2.0
PRODID:-//Kino Tuškanac//Filmski programi//HR
BEGIN:VEVENT
UID:a27ac7c61ec148747e9dd903bf6bd773@kinotuskanac.hr
DTSTAMP:20260423T042925Z
DTSTART:20110414T190000
DTEND:20110414T210000
SUMMARY:Ambasador
LOCATION:Kino Tuškanac
DESCRIPTION:Jugoslavija: Hrvatska, 1984 R: Fadil Hadžić
END:VEVENT
END:VCALENDAR