BEGIN:VCALENDAR
VERSION:2.0
PRODID:-//Kino Tuškanac//Filmski programi//HR
BEGIN:VEVENT
UID:773343980dd3661475eac900914aebba@kinotuskanac.hr
DTSTAMP:20260419T190013Z
DTSTART:20110420T210000
DTEND:20110420T230000
SUMMARY:Kronika jednog zločina
LOCATION:Kino Tuškanac
DESCRIPTION:1973 R: Lordan Zafranović
END:VEVENT
END:VCALENDAR