BEGIN:VCALENDAR
VERSION:2.0
PRODID:-//Kino Tuškanac//Filmski programi//HR
BEGIN:VEVENT
UID:7d23fd89ed13447c844cbaeffedae7b8@kinotuskanac.hr
DTSTAMP:20260422T181040Z
DTSTART:20110421T210000
DTEND:20110421T230000
SUMMARY:Posljednji tango u Parizu
LOCATION:Kino Tuškanac
DESCRIPTION:L' ultimo tango a Parigi, Francuska, Italija, 1972 R: Bernardo Bertolucci
END:VEVENT
END:VCALENDAR