BEGIN:VCALENDAR
VERSION:2.0
PRODID:-//Kino Tuškanac//Filmski programi//HR
BEGIN:VEVENT
UID:f2c61407bf93c9d506ef7122275e4eda@kinotuskanac.hr
DTSTAMP:20260422T180527Z
DTSTART:20110422T190000
DTEND:20110422T210000
SUMMARY:Posljednji tango u Parizu
LOCATION:Kino Tuškanac
DESCRIPTION:L' ultimo tango a Parigi, Francuska, Italija, 1972 R: Bernardo Bertolucci
END:VEVENT
END:VCALENDAR