BEGIN:VCALENDAR
VERSION:2.0
PRODID:-//Kino Tuškanac//Filmski programi//HR
BEGIN:VEVENT
UID:b569a3605df72548305a66b69ae3a9d9@kinotuskanac.hr
DTSTAMP:20260421T235517Z
DTSTART:20110629T210000
DTEND:20110629T230000
SUMMARY:Barbarella
LOCATION:Kino Tuškanac
DESCRIPTION:1968., Vadim  Roger, Vadim, Roger R: Roger Vadim
END:VEVENT
END:VCALENDAR