BEGIN:VCALENDAR
VERSION:2.0
PRODID:-//Kino Tuškanac//Filmski programi//HR
BEGIN:VEVENT
UID:5ce3342f949118ec7d233a6605036382@kinotuskanac.hr
DTSTAMP:20260421T235314Z
DTSTART:20110630T190000
DTEND:20110630T210000
SUMMARY:Barbarella
LOCATION:Kino Tuškanac
DESCRIPTION:1968., Vadim  Roger, Vadim, Roger R: Roger Vadim
END:VEVENT
END:VCALENDAR