BEGIN:VCALENDAR
VERSION:2.0
PRODID:-//Kino Tuškanac//Filmski programi//HR
BEGIN:VEVENT
UID:d0e1d510b2958f923afe1d9a2cdb55bf@kinotuskanac.hr
DTSTAMP:20260423T111618Z
DTSTART:20110426T200000
DTEND:20110426T220000
SUMMARY:Sljepoća
LOCATION:Kino Tuškanac
DESCRIPTION:Blindness, Brazil, 2008 R: Fernando Meirelles
END:VEVENT
END:VCALENDAR