BEGIN:VCALENDAR
VERSION:2.0
PRODID:-//Kino Tuškanac//Filmski programi//HR
BEGIN:VEVENT
UID:9c409e4cf14cc919e90ad8a1a4355280@kinotuskanac.hr
DTSTAMP:20260423T111513Z
DTSTART:20110427T190000
DTEND:20110427T210000
SUMMARY:Sljepoća
LOCATION:Kino Tuškanac
DESCRIPTION:Blindness, Brazil, 2008 R: Fernando Meirelles
END:VEVENT
END:VCALENDAR